BEGIN:VCALENDAR
VERSION:2.0
PRODID:-//CERN//INDICO//EN
BEGIN:VEVENT
SUMMARY:Gleichstellungsfrühstück der Mathematisch-Naturwissenschaftliche
 n Fakultät [Equity & Diversity]
DTSTART:20260603T070000Z
DTEND:20260603T100000Z
DTSTAMP:20260426T010500Z
UID:indico-event-1219@math-events.uni-bonn.de
CONTACT:krapf@math.uni-bonn.de
DESCRIPTION:Am 3. Juni findet das Gleichstellungsfrühstück des SS 2026 s
 tatt. Ziel ist die Vernetzung und der Austausch unter allen\, die sich in 
 der Mathematisch-Naturwissenschaftlichen Fakultät im Bereich der Gleichst
 ellung engagieren. Anwesend ist auch die zentrale Gleichstellungsbeauftrag
 te Frau Gabriele Alonso Rodriguez.\n\nhttps://math-events.uni-bonn.de/even
 t/1219/
LOCATION:Friedrich-Hirzebruch-Allee 8/0-016 - Room 0.016 (Computer Science
  Building)
URL:https://math-events.uni-bonn.de/event/1219/
END:VEVENT
END:VCALENDAR
