BEGIN:VCALENDAR
VERSION:2.0
PRODID:-//CERN//INDICO//EN
BEGIN:VEVENT
SUMMARY:On the sublinear classification and rigidity of lattices in semisi
 mple Lie groups [MPIM]
DTSTART:20260423T113000Z
DTEND:20260423T130000Z
DTSTAMP:20260420T100500Z
UID:indico-event-1221@math-events.uni-bonn.de
DESCRIPTION:Speakers: Ido Grayevsky (University of Bristol)\n\nOberseminar
  Differentialgeometrie\nSublinear Bilipschitz Equivalence (SBE) is a weak 
 form of quasi-isometry\, originally brought forward and used by Cornulier 
 in studying the geometry of solvable Lie groups. In contrast with solvable
  Lie groups\, the SBE-class of a semisimple Lie group of noncompact type i
 s the same as its isometry class. I will present this SBE-classification\,
  and then focus on the situation for non-uniform lattices: what is known a
 nd what is still open. \nBased on joint work with Gabriel Pallier (Lille)
 .\n\nhttps://math-events.uni-bonn.de/event/1221/
LOCATION:MPIM\, Vivatsgasse\,  7 - Lecture Hall (Max Planck Institute for 
 Mathematics)
URL:https://math-events.uni-bonn.de/event/1221/
END:VEVENT
END:VCALENDAR
