BEGIN:VCALENDAR
VERSION:2.0
PRODID:-//CERN//INDICO//EN
BEGIN:VEVENT
SUMMARY:HCM Board of Directors [Commitee Meetings]
DTSTART:20260511T113000Z
DTEND:20260511T133000Z
DTSTAMP:20260425T234300Z
UID:indico-event-1224@math-events.uni-bonn.de
DESCRIPTION:https://math-events.uni-bonn.de/event/1224/
URL:https://math-events.uni-bonn.de/event/1224/
END:VEVENT
END:VCALENDAR
