BEGIN:VCALENDAR
VERSION:2.0
PRODID:-//CERN//INDICO//EN
BEGIN:VEVENT
SUMMARY:HCM Board of Directors [Commitee Meetings]
DTSTART:20260622T113000Z
DTEND:20260622T133000Z
DTSTAMP:20260426T010500Z
UID:indico-event-1225@math-events.uni-bonn.de
DESCRIPTION:https://math-events.uni-bonn.de/event/1225/
URL:https://math-events.uni-bonn.de/event/1225/
END:VEVENT
END:VCALENDAR
