BEGIN:VCALENDAR
VERSION:2.0
PRODID:-//CERN//INDICO//EN
BEGIN:VEVENT
SUMMARY:HSM Executive Committee [Commitee Meetings]
DTSTART:20260420T080000Z
DTEND:20260420T100000Z
DTSTAMP:20260425T234300Z
UID:indico-event-1226@math-events.uni-bonn.de
DESCRIPTION:https://math-events.uni-bonn.de/event/1226/
URL:https://math-events.uni-bonn.de/event/1226/
END:VEVENT
END:VCALENDAR
