BEGIN:VCALENDAR
VERSION:2.0
PRODID:-//CERN//INDICO//EN
BEGIN:VEVENT
SUMMARY:Degenerations in graded quiver varieties and derived categories of
  Dynkin quivers
DTSTART:20260416T141500Z
DTEND:20260416T151500Z
DTSTAMP:20260420T222500Z
UID:indico-event-1231@math-events.uni-bonn.de
DESCRIPTION:Speakers: Fang Yang (MPIM Bonn)\n\nFor any acyclic quiver\, Ke
 ller–Scherotzke provided a stratifying functor from the category of fini
 te-dimensional modules of the singular Nakajima category to the derived ca
 tegory of the quiver. Under this functor\, a degeneration of strata of a g
 raded quiver variety corresponds to a degeneration\, in the sense of Jense
 n–Su–Zimmermann\, in the derived category. In this article\, for any D
 ynkin quiver\, we further investigate Jensen–Su–Zimmermann’s partial
  order and show that any degeneration of objects in the derived category c
 an be obtained in this way.\n\nhttps://math-events.uni-bonn.de/event/1231/
LOCATION:Endenicher Allee 60/1-008-Seminarraum (Mathezentrum)
URL:https://math-events.uni-bonn.de/event/1231/
END:VEVENT
END:VCALENDAR
