BEGIN:VCALENDAR
VERSION:2.0
PRODID:-//CERN//INDICO//EN
BEGIN:VEVENT
SUMMARY:BIGS Poster Session [HCM Workshop/Conference]
DTSTART:20260626T123000Z
DTEND:20260626T134500Z
DTSTAMP:20260420T235900Z
UID:indico-event-1234@math-events.uni-bonn.de
DESCRIPTION:Annual poster session presenting the research of BIGS Mathemat
 ics PhD students\n\nhttps://math-events.uni-bonn.de/event/1234/
LOCATION:Endenicher Allee 60/1-016 - Lipschitzsaal (Mathezentrum)
URL:https://math-events.uni-bonn.de/event/1234/
END:VEVENT
END:VCALENDAR
