BEGIN:VCALENDAR
VERSION:2.0
PRODID:-//CERN//INDICO//EN
BEGIN:VEVENT
SUMMARY:Equilibrium fluctuations for a multi-species particle system with 
 long jumps [Oberseminar Stochastics]
DTSTART:20260116T153000Z
DTEND:20260116T163000Z
DTSTAMP:20260420T222300Z
UID:indico-event-1235@math-events.uni-bonn.de
DESCRIPTION:https://math-events.uni-bonn.de/event/1235/
LOCATION:Guest Apartments
URL:https://math-events.uni-bonn.de/event/1235/
END:VEVENT
END:VCALENDAR
