BEGIN:VCALENDAR
VERSION:2.0
PRODID:-//CERN//INDICO//EN
BEGIN:VEVENT
SUMMARY:TBD [MaLiS Club]
DTSTART:20260528T140000Z
DTEND:20260528T163000Z
DTSTAMP:20260420T222400Z
UID:indico-event-1239@math-events.uni-bonn.de
CONTACT:bcml@uni-bonn.de
DESCRIPTION:https://math-events.uni-bonn.de/event/1239/
LOCATION:Lyra (Sternwarte)
URL:https://math-events.uni-bonn.de/event/1239/
END:VEVENT
END:VCALENDAR
