BEGIN:VCALENDAR
VERSION:2.0
PRODID:-//CERN//INDICO//EN
BEGIN:VEVENT
SUMMARY:Hopfological algebra\, revisited [Oberseminar Darstellungstheorie]
DTSTART:20260529T121500Z
DTEND:20260529T131500Z
DTSTAMP:20260420T222500Z
UID:indico-event-1243@math-events.uni-bonn.de
DESCRIPTION:Speakers: Gustavo Jasso (Universität zu Köln)\n\nThis talk i
 s based on joint work with Omar Gómez (Bielefeld) and Marius Nielsen (NTN
 U). Hopfological algebra is a variant of classical homological algebra int
 roduced by Khovanov and Qi\, motivated by potential applications in the ca
 tegorification of quantum invariants of 3-manifolds. In this talk\, I will
  explain an infinity-categorical approach to the theory that leads\, in pa
 rticular\, to refined foundations as well as to "hopfological analogues" o
 f classical invariants such as Hochschild (co)homology.\n\nhttps://math-ev
 ents.uni-bonn.de/event/1243/
LOCATION:MPIM\, Vivatsgasse\,  7 - Lecture Hall (Max Planck Institute for 
 Mathematics)
URL:https://math-events.uni-bonn.de/event/1243/
END:VEVENT
END:VCALENDAR
