BEGIN:VCALENDAR
VERSION:2.0
PRODID:-//CERN//INDICO//EN
BEGIN:VEVENT
SUMMARY:Projective Presentations over quasicompact algebras
DTSTART:20260423T141500Z
DTEND:20260423T151500Z
DTSTAMP:20260420T222400Z
UID:indico-event-1245@math-events.uni-bonn.de
DESCRIPTION:Speakers: Carolin Hartung (Universität Bonn)\n\nhttps://math-
 events.uni-bonn.de/event/1245/
LOCATION:Endenicher Allee 60/1-008-Seminarraum (Mathezentrum)
URL:https://math-events.uni-bonn.de/event/1245/
END:VEVENT
END:VCALENDAR
