BEGIN:VCALENDAR
VERSION:2.0
PRODID:-//CERN//INDICO//EN
BEGIN:VEVENT
SUMMARY:tba [Arithmetic Geometry and Representation Theory Research Semina
 r]
DTSTART:20260505T130500Z
DTEND:20260505T150000Z
DTSTAMP:20260421T031000Z
UID:indico-event-1247@math-events.uni-bonn.de
DESCRIPTION:Speakers: Luozi Shi (Universität Münster)\n\nhttps://math-ev
 ents.uni-bonn.de/event/1247/
LOCATION:MPIM\, Vivatsgasse\,  7 - Lecture Hall (Max Planck Institute for 
 Mathematics)
URL:https://math-events.uni-bonn.de/event/1247/
END:VEVENT
END:VCALENDAR
