BEGIN:VCALENDAR
VERSION:2.0
PRODID:-//CERN//INDICO//EN
BEGIN:VEVENT
SUMMARY:tba [Arithmetic Geometry and Representation Theory Research Semina
 r]
DTSTART:20260519T130500Z
DTEND:20260519T150000Z
DTSTAMP:20260421T000000Z
UID:indico-event-1248@math-events.uni-bonn.de
DESCRIPTION:Speakers: Lambert A'Campo (IHES)\n\nhttps://math-events.uni-bo
 nn.de/event/1248/
LOCATION:MPIM\, Vivatsgasse\,  7 - Lecture Hall (Max Planck Institute for 
 Mathematics)
URL:https://math-events.uni-bonn.de/event/1248/
END:VEVENT
END:VCALENDAR
