BEGIN:VCALENDAR
VERSION:2.0
PRODID:-//CERN//INDICO//EN
BEGIN:VEVENT
SUMMARY:Smooth structures and nearby Lagrangians [MPIM]
DTSTART:20260430T130000Z
DTEND:20260430T140000Z
DTSTAMP:20260425T133400Z
UID:indico-event-1254@math-events.uni-bonn.de
DESCRIPTION:Speakers: Noah Porcelli (MPIM)\n\nMPI-Oberseminar\nA basic que
 stion in symplectic topology is to classify the Lagrangian submanifolds of
  a given symplectic manifold. I'll discuss some results concerning smooth 
 structures on Lagrangians\, and how to detect them using Floer theory. Bas
 ed on joint work with Ivan Smith.\n\nhttps://math-events.uni-bonn.de/event
 /1254/
LOCATION:MPIM\, Vivatsgasse\,  7 - Lecture Hall (Max Planck Institute for 
 Mathematics)
URL:https://math-events.uni-bonn.de/event/1254/
END:VEVENT
END:VCALENDAR
