BEGIN:VCALENDAR
VERSION:2.0
PRODID:-//CERN//INDICO//EN
BEGIN:VEVENT
SUMMARY:Basic examples\, heat kernel [MPIM]
DTSTART:20260428T130000Z
DTEND:20260428T140000Z
DTSTAMP:20260426T010500Z
UID:indico-event-1257@math-events.uni-bonn.de
DESCRIPTION:Speakers: Ivan Yakovlev (MPIM)\n\nReading group on spectral ge
 ometry\nBasic examples\, spectral theorem via heat kernel\, existence of h
 eat kernelon compact manifolds\, Manikshisundaram-Pleijel expansion\, some
  applications.\n\nhttps://math-events.uni-bonn.de/event/1257/
LOCATION:MPIM\, Vivatsgasse\,  7 - Seminar Room (Max Planck Institute for 
 Mathematics)
URL:https://math-events.uni-bonn.de/event/1257/
END:VEVENT
END:VCALENDAR
